BEGIN:VCALENDAR
PRODID:-//AT Content Types//AT Event//EN
VERSION:2.0

BEGIN:VEVENT
DTSTAMP:20260420T120542Z
CREATED:20070308T074312Z
UID:ATEvent-1cac9425315d9abb3e03dccc6b593b2e
SEQUENCE:0
LAST-MODIFIED:20070308T074810Z
SUMMARY:L'éclipse de Lune du 3-4 mars 2007
DTSTART:20070308T073722Z
DTEND:20070308T073722Z
CATEGORIES:Social Event
CLASS:PUBLIC
PRIORITY:3
TRANSP:OPAQUE
END:VEVENT


END:VCALENDAR
