BEGIN:VCALENDAR
PRODID:-//AT Content Types//AT Event//EN
VERSION:1.0
BEGIN:VEVENT
DTSTART:20080130T200000Z
DTEND:20080202T200000Z
DCREATED:20071121T210129Z
UID:ATEvent-eaf9cc7fa88308cc0ff91dfa95bf876c
SEQUENCE:0
LAST-MODIFIED:20071220T132139Z
SUMMARY:European project: second meeting in Décines (Lyon)
DESCRIPTION:This meeting is for the organisation of the program with the team of teachers from Rome, Malatya and Décines.
LOCATION:Décines
PRIORITY:3
TRANSP:0
END:VEVENT


END:VCALENDAR
